BEGIN:VCALENDAR
VERSION:2.0
PRODID:-//Krisztus Magyarországi Egyháza - ECPv6.15.20//NONSGML v1.0//EN
CALSCALE:GREGORIAN
METHOD:PUBLISH
X-ORIGINAL-URL:https://krisztusegyhaza.hu
X-WR-CALDESC:Események Krisztus Magyarországi Egyháza
REFRESH-INTERVAL;VALUE=DURATION:PT1H
X-Robots-Tag:noindex
X-PUBLISHED-TTL:PT1H
BEGIN:VTIMEZONE
TZID:Europe/Paris
BEGIN:DAYLIGHT
TZOFFSETFROM:+0100
TZOFFSETTO:+0200
TZNAME:CEST
DTSTART:20180325T010000
END:DAYLIGHT
BEGIN:STANDARD
TZOFFSETFROM:+0200
TZOFFSETTO:+0100
TZNAME:CET
DTSTART:20181028T010000
END:STANDARD
BEGIN:DAYLIGHT
TZOFFSETFROM:+0100
TZOFFSETTO:+0200
TZNAME:CEST
DTSTART:20190331T010000
END:DAYLIGHT
BEGIN:STANDARD
TZOFFSETFROM:+0200
TZOFFSETTO:+0100
TZNAME:CET
DTSTART:20191027T010000
END:STANDARD
BEGIN:DAYLIGHT
TZOFFSETFROM:+0100
TZOFFSETTO:+0200
TZNAME:CEST
DTSTART:20200329T010000
END:DAYLIGHT
BEGIN:STANDARD
TZOFFSETFROM:+0200
TZOFFSETTO:+0100
TZNAME:CET
DTSTART:20201025T010000
END:STANDARD
BEGIN:DAYLIGHT
TZOFFSETFROM:+0100
TZOFFSETTO:+0200
TZNAME:CEST
DTSTART:20210328T010000
END:DAYLIGHT
BEGIN:STANDARD
TZOFFSETFROM:+0200
TZOFFSETTO:+0100
TZNAME:CET
DTSTART:20211031T010000
END:STANDARD
BEGIN:DAYLIGHT
TZOFFSETFROM:+0100
TZOFFSETTO:+0200
TZNAME:CEST
DTSTART:20220327T010000
END:DAYLIGHT
BEGIN:STANDARD
TZOFFSETFROM:+0200
TZOFFSETTO:+0100
TZNAME:CET
DTSTART:20221030T010000
END:STANDARD
BEGIN:DAYLIGHT
TZOFFSETFROM:+0100
TZOFFSETTO:+0200
TZNAME:CEST
DTSTART:20230326T010000
END:DAYLIGHT
BEGIN:STANDARD
TZOFFSETFROM:+0200
TZOFFSETTO:+0100
TZNAME:CET
DTSTART:20231029T010000
END:STANDARD
BEGIN:DAYLIGHT
TZOFFSETFROM:+0100
TZOFFSETTO:+0200
TZNAME:CEST
DTSTART:20240331T010000
END:DAYLIGHT
BEGIN:STANDARD
TZOFFSETFROM:+0200
TZOFFSETTO:+0100
TZNAME:CET
DTSTART:20241027T010000
END:STANDARD
BEGIN:DAYLIGHT
TZOFFSETFROM:+0100
TZOFFSETTO:+0200
TZNAME:CEST
DTSTART:20250330T010000
END:DAYLIGHT
BEGIN:STANDARD
TZOFFSETFROM:+0200
TZOFFSETTO:+0100
TZNAME:CET
DTSTART:20251026T010000
END:STANDARD
END:VTIMEZONE
BEGIN:VEVENT
DTSTART;TZID=Europe/Paris:20240323T150000
DTEND;TZID=Europe/Paris:20240323T190000
DTSTAMP:20260422T214941
CREATED:20190405T163820Z
LAST-MODIFIED:20240220T083808Z
UID:1009-1711206000-1711220400@krisztusegyhaza.hu
SUMMARY:Apa-lánya bál
DESCRIPTION:Szervezőknél a részletek! \nmajoros.zoltan71@gmail.com
URL:https://krisztusegyhaza.hu/event/apa-lanya-bal/
CATEGORIES:egyházi program
END:VEVENT
BEGIN:VEVENT
DTSTART;TZID=Europe/Paris:20231119T120000
DTEND;TZID=Europe/Paris:20231119T130000
DTSTAMP:20260422T214941
CREATED:20190405T065943Z
LAST-MODIFIED:20230905T103418Z
UID:621-1700395200-1700398800@krisztusegyhaza.hu
SUMMARY:Bibliakörvezető találkozó: ffi
DESCRIPTION:
URL:https://krisztusegyhaza.hu/event/bibliakor-vezeto-talalkozo-4/
LOCATION:Lurdy Ház\, Könyves Kálmán krt. 12-14.\, Budapest\, 1097\, Magyarország
CATEGORIES:vezető találkozó
END:VEVENT
BEGIN:VEVENT
DTSTART;VALUE=DATE:20231019
DTEND;VALUE=DATE:20231023
DTSTAMP:20260422T214941
CREATED:20190320T150808Z
LAST-MODIFIED:20230531T093054Z
UID:455-1697673600-1698019199@krisztusegyhaza.hu
SUMMARY:European HOPE Conference 2023
DESCRIPTION:Program\, registering soon!
URL:https://krisztusegyhaza.hu/event/hope-program/
CATEGORIES:szegénysegítés
ORGANIZER;CN="Kiss Szab%C3%B3 Zsolt":MAILTO:info@krisztusegyhaza.hu
END:VEVENT
BEGIN:VEVENT
DTSTART;VALUE=DATE:20230815
DTEND;VALUE=DATE:20230817
DTSTAMP:20260422T214941
CREATED:20190325T130927Z
LAST-MODIFIED:20241107T121259Z
UID:521-1692057600-1692230399@krisztusegyhaza.hu
SUMMARY:Egyházi kirándulás: Vajta
DESCRIPTION:Zichy-Vajta Konferencia Központ \nA vajtai Zichy-kastély jelenleg egész évben nyitva tartó Konferencia- és Rendezvény Központnak ad helyet\, amelyről bővebb információ a honlapon: www.zichy-vajta.com
URL:https://krisztusegyhaza.hu/event/egyhazi-kirandulas-vajta/
LOCATION:Vajta\, Petőfi Sándor utca 562.\, Vajta\, 7041\, Magyarország
CATEGORIES:egyházi program
ORGANIZER;CN="Pall%C3%B3s Zsuzsa":MAILTO:info@krisztusegyhaza.hu
END:VEVENT
BEGIN:VEVENT
DTSTART;TZID=Europe/Paris:20220820T140000
DTEND;TZID=Europe/Paris:20220820T153000
DTSTAMP:20260422T214941
CREATED:20190325T123555Z
LAST-MODIFIED:20220802T065404Z
UID:492-1661004000-1661009400@krisztusegyhaza.hu
SUMMARY:Fiatal szülők találkozója - online
DESCRIPTION:
URL:https://krisztusegyhaza.hu/event/fiatal-szulok-talalkozoja/
CATEGORIES:gyereknevelés
END:VEVENT
BEGIN:VEVENT
DTSTART;TZID=Europe/Paris:20220709T140000
DTEND;TZID=Europe/Paris:20220709T153000
DTSTAMP:20260422T214941
CREATED:20190930T072357Z
LAST-MODIFIED:20220525T100758Z
UID:1337-1657375200-1657380600@krisztusegyhaza.hu
SUMMARY:Fiatal szülők találkozója - online
DESCRIPTION:Szeretnénk támogatást adni nektek mint fiatal (még nem tini) szülőknek a lelki alapokban\, fókuszpontokban\, eligazodásban\, nevelésben.\nSzintén fontosnak tartjuk\, hogy tájékozódhassunk a Ti igényeitekről\, elképzeléseitekről a szolgálattal kapcsolatban.
URL:https://krisztusegyhaza.hu/event/fiatal-szulok-talalkozoja2/
CATEGORIES:gyereknevelés
END:VEVENT
BEGIN:VEVENT
DTSTART;TZID=Europe/Paris:20210518T180000
DTEND;TZID=Europe/Paris:20210518T200000
DTSTAMP:20260422T214941
CREATED:20190320T144222Z
LAST-MODIFIED:20210329T152444Z
UID:443-1621360800-1621368000@krisztusegyhaza.hu
SUMMARY:Fiatal keresztények találkozója (Young Christians Class)
DESCRIPTION:
URL:https://krisztusegyhaza.hu/event/kiscsoport-vezeto-talalkozo/
CATEGORIES:kiscsoport találkozó
END:VEVENT
BEGIN:VEVENT
DTSTART;TZID=Europe/Paris:20210504T180000
DTEND;TZID=Europe/Paris:20210504T200000
DTSTAMP:20260422T214941
CREATED:20190902T123956Z
LAST-MODIFIED:20210329T152517Z
UID:1319-1620151200-1620158400@krisztusegyhaza.hu
SUMMARY:Fiatal keresztények találkozója (Young Christians Class)
DESCRIPTION:
URL:https://krisztusegyhaza.hu/event/kiscsoport-vezeto-talalkozo-4/
CATEGORIES:kiscsoport találkozó
END:VEVENT
BEGIN:VEVENT
DTSTART;TZID=Europe/Paris:20210406T180000
DTEND;TZID=Europe/Paris:20210406T200000
DTSTAMP:20260422T214941
CREATED:20200123T120421Z
LAST-MODIFIED:20210329T151830Z
UID:1390-1617732000-1617739200@krisztusegyhaza.hu
SUMMARY:Fiatal keresztények találkozója (Young Christians Class)
DESCRIPTION:
URL:https://krisztusegyhaza.hu/event/diak-kirandulas-young-professionals/
CATEGORIES:kiscsoport találkozó
END:VEVENT
BEGIN:VEVENT
DTSTART;TZID=Europe/Paris:20210330T190000
DTEND;TZID=Europe/Paris:20210330T210000
DTSTAMP:20260422T214941
CREATED:20190325T150020Z
LAST-MODIFIED:20250122T170059Z
UID:535-1617130800-1617138000@krisztusegyhaza.hu
SUMMARY:Vezetőségi találkozó: férfiaknak
DESCRIPTION:
URL:https://krisztusegyhaza.hu/event/vezetosegi-talalkozo/
CATEGORIES:vezető találkozó
END:VEVENT
BEGIN:VEVENT
DTSTART;VALUE=DATE:20201211
DTEND;VALUE=DATE:20201214
DTSTAMP:20260422T214941
CREATED:20190325T123956Z
LAST-MODIFIED:20201118T080917Z
UID:495-1607644800-1607903999@krisztusegyhaza.hu
SUMMARY:Bibliakörök hétvégéje
DESCRIPTION:
URL:https://krisztusegyhaza.hu/event/hetkozi-istentisztelet/
CATEGORIES:kiscsoport találkozó
END:VEVENT
BEGIN:VEVENT
DTSTART;VALUE=DATE:20201127
DTEND;VALUE=DATE:20201130
DTSTAMP:20260422T214941
CREATED:20190318T134019Z
LAST-MODIFIED:20201105T120024Z
UID:407-1606435200-1606694399@krisztusegyhaza.hu
SUMMARY:Bibliakörök hétvégéje
DESCRIPTION:  \n 
URL:https://krisztusegyhaza.hu/event/istentisztelet/
CATEGORIES:kiscsoport találkozó
END:VEVENT
BEGIN:VEVENT
DTSTART;TZID=Europe/Paris:20200603T190000
DTEND;TZID=Europe/Paris:20200603T210000
DTSTAMP:20260422T214941
CREATED:20190405T070320Z
LAST-MODIFIED:20200302T152137Z
UID:627-1591210800-1591218000@krisztusegyhaza.hu
SUMMARY:Vezetőségi találkozó
DESCRIPTION:
URL:https://krisztusegyhaza.hu/event/vezetosegi-talalkozo-3/
CATEGORIES:vezető találkozó
ORGANIZER;CN="Szabad P%C3%A9ter":MAILTO:info@krisztusegyhaza.hu
END:VEVENT
BEGIN:VEVENT
DTSTART;VALUE=DATE:20191123
DTEND;VALUE=DATE:20191124
DTSTAMP:20260422T214941
CREATED:20190328T091820Z
LAST-MODIFIED:20191028T074313Z
UID:562-1574467200-1574553599@krisztusegyhaza.hu
SUMMARY:Európai HOPE konferencia
DESCRIPTION:Európai HOPE konferencia\n \n 
URL:https://krisztusegyhaza.hu/event/hope-program-3/
LOCATION:Feléledési Központ\, Mester utca 72.\, Budapest\, 1097\, Magyarország
CATEGORIES:szegénysegítés
ORGANIZER;CN="Kiss Szab%C3%B3 Zsolt":MAILTO:info@krisztusegyhaza.hu
END:VEVENT
END:VCALENDAR