BEGIN:VCALENDAR
VERSION:2.0
PRODID:-//Krisztus Magyarországi Egyháza - ECPv6.15.20//NONSGML v1.0//EN
CALSCALE:GREGORIAN
METHOD:PUBLISH
X-WR-CALNAME:Krisztus Magyarországi Egyháza
X-ORIGINAL-URL:https://krisztusegyhaza.hu
X-WR-CALDESC:Események Krisztus Magyarországi Egyháza
REFRESH-INTERVAL;VALUE=DURATION:PT1H
X-Robots-Tag:noindex
X-PUBLISHED-TTL:PT1H
BEGIN:VTIMEZONE
TZID:Europe/Paris
BEGIN:DAYLIGHT
TZOFFSETFROM:+0100
TZOFFSETTO:+0200
TZNAME:CEST
DTSTART:20250330T010000
END:DAYLIGHT
BEGIN:STANDARD
TZOFFSETFROM:+0200
TZOFFSETTO:+0100
TZNAME:CET
DTSTART:20251026T010000
END:STANDARD
BEGIN:DAYLIGHT
TZOFFSETFROM:+0100
TZOFFSETTO:+0200
TZNAME:CEST
DTSTART:20260329T010000
END:DAYLIGHT
BEGIN:STANDARD
TZOFFSETFROM:+0200
TZOFFSETTO:+0100
TZNAME:CET
DTSTART:20261025T010000
END:STANDARD
BEGIN:DAYLIGHT
TZOFFSETFROM:+0100
TZOFFSETTO:+0200
TZNAME:CEST
DTSTART:20270328T010000
END:DAYLIGHT
BEGIN:STANDARD
TZOFFSETFROM:+0200
TZOFFSETTO:+0100
TZNAME:CET
DTSTART:20271031T010000
END:STANDARD
END:VTIMEZONE
BEGIN:VTIMEZONE
TZID:Europe/Budapest
BEGIN:DAYLIGHT
TZOFFSETFROM:+0100
TZOFFSETTO:+0200
TZNAME:CEST
DTSTART:20250330T010000
END:DAYLIGHT
BEGIN:STANDARD
TZOFFSETFROM:+0200
TZOFFSETTO:+0100
TZNAME:CET
DTSTART:20251026T010000
END:STANDARD
BEGIN:DAYLIGHT
TZOFFSETFROM:+0100
TZOFFSETTO:+0200
TZNAME:CEST
DTSTART:20260329T010000
END:DAYLIGHT
BEGIN:STANDARD
TZOFFSETFROM:+0200
TZOFFSETTO:+0100
TZNAME:CET
DTSTART:20261025T010000
END:STANDARD
BEGIN:DAYLIGHT
TZOFFSETFROM:+0100
TZOFFSETTO:+0200
TZNAME:CEST
DTSTART:20270328T010000
END:DAYLIGHT
BEGIN:STANDARD
TZOFFSETFROM:+0200
TZOFFSETTO:+0100
TZNAME:CET
DTSTART:20271031T010000
END:STANDARD
END:VTIMEZONE
BEGIN:VEVENT
DTSTART;TZID=Europe/Paris:20260424T180000
DTEND;TZID=Europe/Paris:20260424T200000
DTSTAMP:20260422T135341
CREATED:20190902T121248Z
LAST-MODIFIED:20260404T161932Z
UID:1297-1777053600-1777060800@krisztusegyhaza.hu
SUMMARY:Diák & tini találkozó
DESCRIPTION:(Részletek miatt szervezőt keresd kérlek!)
URL:https://krisztusegyhaza.hu/event/diak-program/
LOCATION:Egyenlő Café\, Berzsenyi Dániel u. 3.\, Budapest\, 1135\, Hungary
CATEGORIES:tini találkozó
END:VEVENT
BEGIN:VEVENT
DTSTART;TZID=Europe/Paris:20260426T103000
DTEND;TZID=Europe/Paris:20260426T120000
DTSTAMP:20260422T135341
CREATED:20190325T150509Z
LAST-MODIFIED:20260420T113136Z
UID:545-1777199400-1777204800@krisztusegyhaza.hu
SUMMARY:Istentisztelet (+szegénysegítés)
DESCRIPTION:
URL:https://krisztusegyhaza.hu/event/istentisztelet-13/
LOCATION:Lurdy Ház\, Könyves Kálmán krt. 12-14.\, Budapest\, 1097\, Magyarország
CATEGORIES:istentisztelet
ORGANIZER;CN="Szepessy G%C3%A1bor":MAILTO:frady.endre@gmail.com
END:VEVENT
BEGIN:VEVENT
DTSTART;VALUE=DATE:20260501
DTEND;VALUE=DATE:20260504
DTSTAMP:20260422T135341
CREATED:20200123T125953Z
LAST-MODIFIED:20260404T165448Z
UID:1409-1777593600-1777852799@krisztusegyhaza.hu
SUMMARY:Kelet Európai Konferencia (ECE conference)
DESCRIPTION:(Részletek miatt szervezőt keresd kérlek!) EE Discipleship Summit 2026 \nEE Discipleship Summit 2026
URL:https://krisztusegyhaza.hu/event/kelet-europai-vezetosegi-csoport-konferencia/
LOCATION:Lurdy Ház\, Könyves Kálmán krt. 12-14.\, Budapest\, 1097\, Magyarország
CATEGORIES:vezető találkozó
ORGANIZER;CN="Pall%C3%B3s Zsuzsa":MAILTO:info@krisztusegyhaza.hu
END:VEVENT
BEGIN:VEVENT
DTSTART;TZID=Europe/Paris:20260503T103000
DTEND;TZID=Europe/Paris:20260503T120000
DTSTAMP:20260422T135341
CREATED:20190325T150234Z
LAST-MODIFIED:20260404T164651Z
UID:537-1777804200-1777809600@krisztusegyhaza.hu
SUMMARY:Istentisztelet
DESCRIPTION:
URL:https://krisztusegyhaza.hu/event/istentisztelet-9/
LOCATION:Lurdy Ház\, Könyves Kálmán krt. 12-14.\, Budapest\, 1097\, Magyarország
CATEGORIES:istentisztelet
ORGANIZER;CN="Szepessy G%C3%A1bor":MAILTO:frady.endre@gmail.com
END:VEVENT
BEGIN:VEVENT
DTSTART;TZID=Europe/Budapest:20260508T180000
DTEND;TZID=Europe/Budapest:20260508T220000
DTSTAMP:20260422T135341
CREATED:20221027T153309Z
LAST-MODIFIED:20260404T165441Z
UID:1706-1778263200-1778277600@krisztusegyhaza.hu
SUMMARY:Diák & tini találkozó
DESCRIPTION:Egyenlő Café\, Berzsenyi Dániel utca 3\, 1081 \nVendégeket szabad\, sőt bátorított hozni. \nRészletekkel Pallós Botit (vagy DNS Boty) lehet keresni.
URL:https://krisztusegyhaza.hu/event/diak-program-1/
END:VEVENT
BEGIN:VEVENT
DTSTART;TZID=Europe/Paris:20260513T190000
DTEND;TZID=Europe/Paris:20260513T210000
DTSTAMP:20260422T135341
CREATED:20190325T150348Z
LAST-MODIFIED:20260404T164501Z
UID:541-1778698800-1778706000@krisztusegyhaza.hu
SUMMARY:Hétközi istentisztelet
DESCRIPTION:
URL:https://krisztusegyhaza.hu/event/hetkozi-istentisztelet-1/
LOCATION:Lurdy Ház\, Könyves Kálmán krt. 12-14.\, Budapest\, 1097\, Magyarország
CATEGORIES:istentisztelet
ORGANIZER;CN="Szepessy G%C3%A1bor":MAILTO:frady.endre@gmail.com
END:VEVENT
BEGIN:VEVENT
DTSTART;VALUE=DATE:20260514
DTEND;VALUE=DATE:20260518
DTSTAMP:20260422T135341
CREATED:20190405T070351Z
LAST-MODIFIED:20260404T162220Z
UID:629-1778716800-1779062399@krisztusegyhaza.hu
SUMMARY:European Bible School (Pruhonice)
DESCRIPTION:EBS\, May 2026:  Faith in the Digital Age
URL:https://krisztusegyhaza.hu/event/ebs/
CATEGORIES:egyházi program
END:VEVENT
BEGIN:VEVENT
DTSTART;TZID=Europe/Paris:20260530T090000
DTEND;TZID=Europe/Paris:20260530T160000
DTSTAMP:20260422T135341
CREATED:20190328T091500Z
LAST-MODIFIED:20260404T162407Z
UID:558-1780131600-1780156800@krisztusegyhaza.hu
SUMMARY:HOPE program: Aporháza gyereknap
DESCRIPTION:HOPE GYEREKNAP \nSZERA Alapítvánnyal közösen az Családok Átmeneti Otthonába mennénk családi és gyerekprogramot csinálni!
URL:https://krisztusegyhaza.hu/event/hope-program-2/
LOCATION:Családok Átmemeti Otthona – Aporháza\, Aporháza utca 63.\, Budapest\, 1152\, Magyarország
CATEGORIES:szegénysegítés
ORGANIZER;CN="Kiss Szab%C3%B3 Zsolt":MAILTO:info@krisztusegyhaza.hu
END:VEVENT
END:VCALENDAR