BEGIN:VCALENDAR
VERSION:2.0
PRODID:-//Krisztus Magyarországi Egyháza - ECPv6.15.20//NONSGML v1.0//EN
CALSCALE:GREGORIAN
METHOD:PUBLISH
X-WR-CALNAME:Krisztus Magyarországi Egyháza
X-ORIGINAL-URL:https://krisztusegyhaza.hu
X-WR-CALDESC:Események Krisztus Magyarországi Egyháza
REFRESH-INTERVAL;VALUE=DURATION:PT1H
X-Robots-Tag:noindex
X-PUBLISHED-TTL:PT1H
BEGIN:VTIMEZONE
TZID:Europe/Paris
BEGIN:DAYLIGHT
TZOFFSETFROM:+0100
TZOFFSETTO:+0200
TZNAME:CEST
DTSTART:20210328T010000
END:DAYLIGHT
BEGIN:STANDARD
TZOFFSETFROM:+0200
TZOFFSETTO:+0100
TZNAME:CET
DTSTART:20211031T010000
END:STANDARD
BEGIN:DAYLIGHT
TZOFFSETFROM:+0100
TZOFFSETTO:+0200
TZNAME:CEST
DTSTART:20220327T010000
END:DAYLIGHT
BEGIN:STANDARD
TZOFFSETFROM:+0200
TZOFFSETTO:+0100
TZNAME:CET
DTSTART:20221030T010000
END:STANDARD
BEGIN:DAYLIGHT
TZOFFSETFROM:+0100
TZOFFSETTO:+0200
TZNAME:CEST
DTSTART:20230326T010000
END:DAYLIGHT
BEGIN:STANDARD
TZOFFSETFROM:+0200
TZOFFSETTO:+0100
TZNAME:CET
DTSTART:20231029T010000
END:STANDARD
END:VTIMEZONE
BEGIN:VEVENT
DTSTART;TZID=Europe/Paris:20220820T140000
DTEND;TZID=Europe/Paris:20220820T153000
DTSTAMP:20260424T045534
CREATED:20190325T123555Z
LAST-MODIFIED:20220802T065404Z
UID:492-1661004000-1661009400@krisztusegyhaza.hu
SUMMARY:Fiatal szülők találkozója - online
DESCRIPTION:
URL:https://krisztusegyhaza.hu/event/fiatal-szulok-talalkozoja/
CATEGORIES:gyereknevelés
END:VEVENT
END:VCALENDAR