BEGIN:VCALENDAR
VERSION:2.0
PRODID:-//Krisztus Magyarországi Egyháza - ECPv6.15.20//NONSGML v1.0//EN
CALSCALE:GREGORIAN
METHOD:PUBLISH
X-ORIGINAL-URL:https://krisztusegyhaza.hu
X-WR-CALDESC:Események Krisztus Magyarországi Egyháza
REFRESH-INTERVAL;VALUE=DURATION:PT1H
X-Robots-Tag:noindex
X-PUBLISHED-TTL:PT1H
BEGIN:VTIMEZONE
TZID:Europe/Paris
BEGIN:DAYLIGHT
TZOFFSETFROM:+0100
TZOFFSETTO:+0200
TZNAME:CEST
DTSTART:20180325T010000
END:DAYLIGHT
BEGIN:STANDARD
TZOFFSETFROM:+0200
TZOFFSETTO:+0100
TZNAME:CET
DTSTART:20181028T010000
END:STANDARD
BEGIN:DAYLIGHT
TZOFFSETFROM:+0100
TZOFFSETTO:+0200
TZNAME:CEST
DTSTART:20190331T010000
END:DAYLIGHT
BEGIN:STANDARD
TZOFFSETFROM:+0200
TZOFFSETTO:+0100
TZNAME:CET
DTSTART:20191027T010000
END:STANDARD
BEGIN:DAYLIGHT
TZOFFSETFROM:+0100
TZOFFSETTO:+0200
TZNAME:CEST
DTSTART:20200329T010000
END:DAYLIGHT
BEGIN:STANDARD
TZOFFSETFROM:+0200
TZOFFSETTO:+0100
TZNAME:CET
DTSTART:20201025T010000
END:STANDARD
END:VTIMEZONE
BEGIN:VEVENT
DTSTART;VALUE=DATE:20191123
DTEND;VALUE=DATE:20191124
DTSTAMP:20260426T053256
CREATED:20190328T091820Z
LAST-MODIFIED:20191028T074313Z
UID:562-1574467200-1574553599@krisztusegyhaza.hu
SUMMARY:Európai HOPE konferencia
DESCRIPTION:Európai HOPE konferencia\n \n 
URL:https://krisztusegyhaza.hu/event/hope-program-3/
LOCATION:Feléledési Központ\, Mester utca 72.\, Budapest\, 1097\, Magyarország
CATEGORIES:szegénysegítés
ORGANIZER;CN="Kiss Szab%C3%B3 Zsolt":MAILTO:info@krisztusegyhaza.hu
END:VEVENT
END:VCALENDAR